BEGIN:VCALENDAR
PRODID:NingEventWidget-v1
VERSION:2.0
METHOD:PUBLISH
BEGIN:VTIMEZONE
TZID:Europe/Berlin
X-LIC-LOCATION:Europe/Berlin
BEGIN:DAYLIGHT
TZOFFSETFROM:+0100
TZOFFSETTO:+0200
TZNAME:CEST
DTSTART:19700329T020000
RRULE:FREQ=YEARLY;BYMONTH=3;BYDAY=-1SU
END:DAYLIGHT
BEGIN:STANDARD
TZOFFSETFROM:+0200
TZOFFSETTO:+0100
TZNAME:CET
DTSTART:19701025T030000
RRULE:FREQ=YEARLY;BYMONTH=10;BYDAY=-1SU
END:STANDARD
END:VTIMEZONE
BEGIN:VEVENT
UID:6435540:Event:89002
DTSTAMP:20260425T162831Z
SUMMARY:Investors' Darling
DESCRIPTION:Es ist der härteste Kapitalmarkt-Wettbewerb der deutschen
  Wirtschaft: Einmal jährlich ermittelt das manager magazin, welches b
 örsennotierte Unternehmen am verlässlichsten mit den Investoren komm
 uniziert – und deswegen die besten Chancen hat, künftig seinen Bör
 senwert zu steigern. Die Spitzenkraft, die sich bei der Studie durchse
 tzt, bekommt den Titel „Investors' Darling“ verliehen.\n\nWeitere 
 Informationen erhalten Sie unter https://www.irclub.de/events/investor
 s-darling
DTSTART;TZID=Europe/Berlin:20260917T180000
DTEND;TZID=Europe/Berlin:20260917T230000
CATEGORIES:preisverleihung
LOCATION:Berenberg, Niederlassung Frankfurt
WEBSITE:
URL:
CONTACT:investorsdarling@manager-magazin.de
ORGANIZER:manager magazin und Berenberg
ATTACH;FMTTYPE="image/jpeg":https://storage.ning.com/topology/rest/1.0
 /file/get/31141671868?profile=original
ATTENDEE;ROLE=REQ-PARTICIPANT;PARTSTAT=ACCEPTED;RSVP=TRUE;CN="IR Club"
 :https://www.irclub.de/profile/IRClub
END:VEVENT
END:VCALENDAR
